BEGIN:VCALENDAR
VERSION:2.0
PRODID:-//Kulturhof Auleben - ECPv6.15.20//NONSGML v1.0//EN
CALSCALE:GREGORIAN
METHOD:PUBLISH
X-ORIGINAL-URL:https://www.kulturhof-auleben.de
X-WR-CALDESC:Veranstaltungen für Kulturhof Auleben
REFRESH-INTERVAL;VALUE=DURATION:PT1H
X-Robots-Tag:noindex
X-PUBLISHED-TTL:PT1H
BEGIN:VTIMEZONE
TZID:Europe/Berlin
BEGIN:DAYLIGHT
TZOFFSETFROM:+0100
TZOFFSETTO:+0200
TZNAME:CEST
DTSTART:20220327T010000
END:DAYLIGHT
BEGIN:STANDARD
TZOFFSETFROM:+0200
TZOFFSETTO:+0100
TZNAME:CET
DTSTART:20221030T010000
END:STANDARD
BEGIN:DAYLIGHT
TZOFFSETFROM:+0100
TZOFFSETTO:+0200
TZNAME:CEST
DTSTART:20230326T010000
END:DAYLIGHT
BEGIN:STANDARD
TZOFFSETFROM:+0200
TZOFFSETTO:+0100
TZNAME:CET
DTSTART:20231029T010000
END:STANDARD
BEGIN:DAYLIGHT
TZOFFSETFROM:+0100
TZOFFSETTO:+0200
TZNAME:CEST
DTSTART:20240331T010000
END:DAYLIGHT
BEGIN:STANDARD
TZOFFSETFROM:+0200
TZOFFSETTO:+0100
TZNAME:CET
DTSTART:20241027T010000
END:STANDARD
END:VTIMEZONE
BEGIN:VEVENT
DTSTART;TZID=Europe/Berlin:20230910T100000
DTEND;TZID=Europe/Berlin:20230910T180000
DTSTAMP:20260421T203708
CREATED:20230514T095327Z
LAST-MODIFIED:20230514T095327Z
UID:249-1694340000-1694368800@www.kulturhof-auleben.de
SUMMARY:Tag des Offenen Denkmals
DESCRIPTION:Tag des Offenen Denkmals auf dem Kulturhof Auleben \n\nRegionales Handwerk\nAusstellungen\nRegionale Produkte\nSpeis und Trank\n 
URL:https://www.kulturhof-auleben.de/event/tag-des-offenen-denkmals/
LOCATION:Kulturhof Auleben\, Straße der Einheit 16\, Auleben\, 99765
END:VEVENT
END:VCALENDAR