BEGIN:VCALENDAR
VERSION:2.0
PRODID:-//Kulturhof Auleben - ECPv6.15.20//NONSGML v1.0//EN
CALSCALE:GREGORIAN
METHOD:PUBLISH
X-ORIGINAL-URL:https://www.kulturhof-auleben.de
X-WR-CALDESC:Veranstaltungen für Kulturhof Auleben
REFRESH-INTERVAL;VALUE=DURATION:PT1H
X-Robots-Tag:noindex
X-PUBLISHED-TTL:PT1H
BEGIN:VTIMEZONE
TZID:Europe/Berlin
BEGIN:DAYLIGHT
TZOFFSETFROM:+0100
TZOFFSETTO:+0200
TZNAME:CEST
DTSTART:20220327T010000
END:DAYLIGHT
BEGIN:STANDARD
TZOFFSETFROM:+0200
TZOFFSETTO:+0100
TZNAME:CET
DTSTART:20221030T010000
END:STANDARD
BEGIN:DAYLIGHT
TZOFFSETFROM:+0100
TZOFFSETTO:+0200
TZNAME:CEST
DTSTART:20230326T010000
END:DAYLIGHT
BEGIN:STANDARD
TZOFFSETFROM:+0200
TZOFFSETTO:+0100
TZNAME:CET
DTSTART:20231029T010000
END:STANDARD
BEGIN:DAYLIGHT
TZOFFSETFROM:+0100
TZOFFSETTO:+0200
TZNAME:CEST
DTSTART:20240331T010000
END:DAYLIGHT
BEGIN:STANDARD
TZOFFSETFROM:+0200
TZOFFSETTO:+0100
TZNAME:CET
DTSTART:20241027T010000
END:STANDARD
END:VTIMEZONE
BEGIN:VEVENT
DTSTART;TZID=Europe/Berlin:20230909T190000
DTEND;TZID=Europe/Berlin:20230909T230000
DTSTAMP:20260421T203729
CREATED:20230514T095052Z
LAST-MODIFIED:20230514T124738Z
UID:247-1694286000-1694300400@www.kulturhof-auleben.de
SUMMARY:Kultur am Vorabend des Tag des offenen Denkmals
DESCRIPTION:Buchlesung mit Nicki Pawlow “Der bulgarische Arzt”\nNicki Pawlow ist die Tochter eines bulgarischen Arztes\nund einer deutschen Mutter und wächst bis zu ihrem 13.\nLebensjahr in Nordhausen auf\, bevor die Familie unter dem\nSED Regime unter Druck gerät und in den Westen flüchtet.
URL:https://www.kulturhof-auleben.de/event/kultur-am-vorabend-des-tag-des-offenen-denkmals/
LOCATION:Kulturhof Auleben\, Straße der Einheit 16\, Auleben\, 99765
END:VEVENT
END:VCALENDAR